BEGIN:VCALENDAR
VERSION:2.0
PRODID:-//VECNCC - ECPv6.15.11//NONSGML v1.0//EN
CALSCALE:GREGORIAN
METHOD:PUBLISH
X-WR-CALNAME:VECNCC
X-ORIGINAL-URL:https://vecncc.org
X-WR-CALDESC:Events for VECNCC
REFRESH-INTERVAL;VALUE=DURATION:PT1H
X-Robots-Tag:noindex
X-PUBLISHED-TTL:PT1H
BEGIN:VTIMEZONE
TZID:America/New_York
BEGIN:DAYLIGHT
TZOFFSETFROM:-0500
TZOFFSETTO:-0400
TZNAME:EDT
DTSTART:20240310T070000
END:DAYLIGHT
BEGIN:STANDARD
TZOFFSETFROM:-0400
TZOFFSETTO:-0500
TZNAME:EST
DTSTART:20241103T060000
END:STANDARD
BEGIN:DAYLIGHT
TZOFFSETFROM:-0500
TZOFFSETTO:-0400
TZNAME:EDT
DTSTART:20250309T070000
END:DAYLIGHT
BEGIN:STANDARD
TZOFFSETFROM:-0400
TZOFFSETTO:-0500
TZNAME:EST
DTSTART:20251102T060000
END:STANDARD
BEGIN:DAYLIGHT
TZOFFSETFROM:-0500
TZOFFSETTO:-0400
TZNAME:EDT
DTSTART:20260308T070000
END:DAYLIGHT
BEGIN:STANDARD
TZOFFSETFROM:-0400
TZOFFSETTO:-0500
TZNAME:EST
DTSTART:20261101T060000
END:STANDARD
END:VTIMEZONE
BEGIN:VEVENT
DTSTART;TZID=America/New_York:20250305T120000
DTEND;TZID=America/New_York:20250305T130000
DTSTAMP:20260423T141857
CREATED:20250214T023256Z
LAST-MODIFIED:20250214T023256Z
UID:22066-1741176000-1741179600@vecncc.org
SUMMARY:OWL Taking Flight: Sex Ed and Disability Justice
DESCRIPTION:Join Our Whole Lives leaders in a discussion about sexuality education and disability justice.
URL:https://vecncc.org/event/owl-taking-flight-sex-ed-and-disability-justice/
LOCATION:Zoom
CATEGORIES:Our Whole LIves,UCC
END:VEVENT
BEGIN:VEVENT
DTSTART;TZID=America/New_York:20250305T130000
DTEND;TZID=America/New_York:20250305T140000
DTSTAMP:20260423T141857
CREATED:20250207T023645Z
LAST-MODIFIED:20250207T023645Z
UID:22025-1741179600-1741183200@vecncc.org
SUMMARY:Christ in the Rubble: A Conversation with Rev. Dr. Munther Isaac
DESCRIPTION:Rev. Dr. Munther Isaac received a lot of global attention with his Christmas 2023 Nativity scene showing Christ surrounded by the rubble of Gaza. He has now expanded on that Christmas message with a forthcoming new book Christ in the Rubble: Faith\, the Bible\, and the Genocide in Gaza. In this book\, Rev. Dr. Isaac challenges mainstream Christians’ uncritical embrace of the modern State of Israel and challenges us to realign our beliefs and actions with Christ – who can be found not among perpetrators of violence\, but with victims buried under the rubble of war.
URL:https://vecncc.org/event/christ-in-the-rubble-a-conversation-with-rev-dr-munther-isaac/
LOCATION:Zoom
CATEGORIES:UCC
END:VEVENT
END:VCALENDAR