BEGIN:VCALENDAR
VERSION:2.0
PRODID:-//VECNCC - ECPv6.15.11//NONSGML v1.0//EN
CALSCALE:GREGORIAN
METHOD:PUBLISH
X-WR-CALNAME:VECNCC
X-ORIGINAL-URL:https://vecncc.org
X-WR-CALDESC:Events for VECNCC
REFRESH-INTERVAL;VALUE=DURATION:PT1H
X-Robots-Tag:noindex
X-PUBLISHED-TTL:PT1H
BEGIN:VTIMEZONE
TZID:America/New_York
BEGIN:DAYLIGHT
TZOFFSETFROM:-0500
TZOFFSETTO:-0400
TZNAME:EDT
DTSTART:20240310T070000
END:DAYLIGHT
BEGIN:STANDARD
TZOFFSETFROM:-0400
TZOFFSETTO:-0500
TZNAME:EST
DTSTART:20241103T060000
END:STANDARD
BEGIN:DAYLIGHT
TZOFFSETFROM:-0500
TZOFFSETTO:-0400
TZNAME:EDT
DTSTART:20250309T070000
END:DAYLIGHT
BEGIN:STANDARD
TZOFFSETFROM:-0400
TZOFFSETTO:-0500
TZNAME:EST
DTSTART:20251102T060000
END:STANDARD
BEGIN:DAYLIGHT
TZOFFSETFROM:-0500
TZOFFSETTO:-0400
TZNAME:EDT
DTSTART:20260308T070000
END:DAYLIGHT
BEGIN:STANDARD
TZOFFSETFROM:-0400
TZOFFSETTO:-0500
TZNAME:EST
DTSTART:20261101T060000
END:STANDARD
END:VTIMEZONE
BEGIN:VEVENT
DTSTART;TZID=America/New_York:20250320T153000
DTEND;TZID=America/New_York:20250320T163000
DTSTAMP:20260423T124404
CREATED:20250307T024837Z
LAST-MODIFIED:20250307T024837Z
UID:22185-1742484600-1742488200@vecncc.org
SUMMARY:Blessed Minds: Breaking the Silence about Neurodiversity
DESCRIPTION:Is your church truly welcoming to all of God’s children? Many churches are unintentionally exclusive toward people whose brains work differently. Join Rev. ellie hutchison as she will be in discussion with Rev. Dr. Sarah Lund\, advocate\, pastor and Author of “Blessed Minds: Breaking the Silence About Neurodiversity\,” Rev. Dr. Sarah Lund. We’ll explore some theological insights into neurodiversity as part of God’s good creation\, how to help churches embrace the gifts of neurodiversity and become a place of belonging for all and finally\, we’ll briefly touch on how to create a neuro-inclusive worship experience.
URL:https://vecncc.org/event/blessed-minds-breaking-the-silence-about-neurodiversity/
LOCATION:Zoom
CATEGORIES:Nurture the Soul,UCC
END:VEVENT
END:VCALENDAR